BEGIN:VCALENDAR
VERSION:2.0
PRODID:-//NMO MANAGEMENT LTD  - ECPv6.15.20//NONSGML v1.0//EN
CALSCALE:GREGORIAN
METHOD:PUBLISH
X-ORIGINAL-URL:https://artisticpulsefestival.com
X-WR-CALDESC:Events for NMO MANAGEMENT LTD 
REFRESH-INTERVAL;VALUE=DURATION:PT1H
X-Robots-Tag:noindex
X-PUBLISHED-TTL:PT1H
BEGIN:VTIMEZONE
TZID:Africa/Abidjan
BEGIN:STANDARD
TZOFFSETFROM:+0000
TZOFFSETTO:+0000
TZNAME:GMT
DTSTART:20240101T000000
END:STANDARD
END:VTIMEZONE
BEGIN:VEVENT
DTSTART;TZID=Africa/Abidjan:20251203T080000
DTEND;TZID=Africa/Abidjan:20251207T170000
DTSTAMP:20260422T084127
CREATED:20250910T130809Z
LAST-MODIFIED:20251002T094600Z
UID:292-1764748800-1765126800@artisticpulsefestival.com
SUMMARY:ARTISTIC PULSE FESTIVAL
DESCRIPTION:
URL:https://artisticpulsefestival.com/event/artistic-pulse-festival/
LOCATION:TBS REMEMBRANCE ARCADE\, LAGOS ISLAND(Next to Cricket Ground/Kings College)\, TBS REMEMBRANCE ARCADE\, LAGOS ISLAND\, Lagos
ATTACH;FMTTYPE=image/jpeg:https://artisticpulsefestival.com/wp-content/uploads/2025/09/LNPLip-scaled.jpg
END:VEVENT
END:VCALENDAR